BEGIN:VCALENDAR
VERSION:2.0
PRODID:-//Plone.org//NONSGML plone.app.event//EN
X-WR-TIMEZONE:Europe/Rome
BEGIN:VEVENT
SUMMARY:Inauguration of the new Teamworking Room
DTSTART;TZID=Europe/Rome;VALUE=DATE-TIME:20251031T143000
DTEND;TZID=Europe/Rome;VALUE=DATE-TIME:20251031T153000
DTSTAMP;VALUE=DATE-TIME:20260421T045201Z
UID:39ff64f87ae54353b8d3a623955a3f45@dicam.unibo.it
CREATED;VALUE=DATE-TIME:20251029T112452Z
DESCRIPTION:31 ottobre 2025
LAST-MODIFIED;VALUE=DATE-TIME:20251029T112719Z
URL:https://dicam.unibo.it/en/events/inauguration-of-the-new-teamworking-r
 oom
END:VEVENT
BEGIN:VTIMEZONE
TZID:Europe/Rome
X-LIC-LOCATION:Europe/Rome
BEGIN:STANDARD
DTSTART;VALUE=DATE-TIME:20251026T020000
TZNAME:CET
TZOFFSETFROM:+0200
TZOFFSETTO:+0100
END:STANDARD
END:VTIMEZONE
END:VCALENDAR
