BEGIN:VCALENDAR
VERSION:2.0
PRODID:-//Plone.org//NONSGML plone.app.event//EN
X-WR-TIMEZONE:Europe/Rome
BEGIN:VEVENT
SUMMARY:16 ottobre - Recruiting Day Industria 4.0 Manifattura
DTSTART;TZID=Europe/Rome;VALUE=DATE-TIME:20191016T093000
DTEND;TZID=Europe/Rome;VALUE=DATE-TIME:20191016T173000
DTSTAMP;VALUE=DATE-TIME:20260426T050326Z
UID:6a4161a01e104764ae73ddfb1b082baa@dicam.unibo.it
CREATED;VALUE=DATE-TIME:20190919T051959Z
DESCRIPTION:Un’occasione d’incontro tra aziende del settore manifattur
 iero e studenti/laureati interessati a scoprire le opportunità di carrier
 a e le offerte di lavoro proposte da questo ambito di mercato.
LAST-MODIFIED;VALUE=DATE-TIME:20190919T052040Z
URL:https://dicam.unibo.it/it/eventi/16-ottobre-recruiting-day-industria-4
 .0-manifattura
END:VEVENT
BEGIN:VTIMEZONE
TZID:Europe/Rome
X-LIC-LOCATION:Europe/Rome
BEGIN:DAYLIGHT
DTSTART;VALUE=DATE-TIME:20190331T030000
TZNAME:CEST
TZOFFSETFROM:+0100
TZOFFSETTO:+0200
END:DAYLIGHT
END:VTIMEZONE
END:VCALENDAR
