BEGIN:VCALENDAR
VERSION:2.0
PRODID:-//Plone.org//NONSGML plone.app.event//EN
X-WR-TIMEZONE:Europe/Rome
BEGIN:VEVENT
SUMMARY:1° Saferup Week (Bologna)
DTSTART;VALUE=DATE:20190401
DTEND;VALUE=DATE:20190406
DTSTAMP;VALUE=DATE-TIME:20260424T213907Z
UID:ea98381cb6c34538a62229a2c7ff1f00@dicam.unibo.it
CREATED;VALUE=DATE-TIME:20181030T113450Z
LAST-MODIFIED;VALUE=DATE-TIME:20181030T113805Z
URL:https://dicam.unibo.it/it/eventi/1deg-saferup-week-bologna
END:VEVENT
END:VCALENDAR
