BEGIN:VCALENDAR
VERSION:2.0
PRODID:-//Plone.org//NONSGML plone.app.event//EN
X-WR-TIMEZONE:Europe/Rome
BEGIN:VEVENT
SUMMARY:20 febbraio Career Day
DTSTART;TZID=Europe/Rome;VALUE=DATE-TIME:20180220T093000
DTEND;TZID=Europe/Rome;VALUE=DATE-TIME:20180220T170000
DTSTAMP;VALUE=DATE-TIME:20260424T200012Z
UID:db00544a78f9480fa3d0b8a2bfa6d330@dicam.unibo.it
CREATED;VALUE=DATE-TIME:20180110T153255Z
DESCRIPTION:Iscriviti online\, conosci le aziende e lascia il tuo CV
LAST-MODIFIED;VALUE=DATE-TIME:20180110T153328Z
URL:https://dicam.unibo.it/it/eventi/20-febbraio-career-day
END:VEVENT
BEGIN:VTIMEZONE
TZID:Europe/Rome
X-LIC-LOCATION:Europe/Rome
BEGIN:STANDARD
DTSTART;VALUE=DATE-TIME:20171029T020000
TZNAME:CET
TZOFFSETFROM:+0200
TZOFFSETTO:+0100
END:STANDARD
END:VTIMEZONE
END:VCALENDAR
