BEGIN:VCALENDAR
VERSION:2.0
PRODID:-//Plone.org//NONSGML plone.app.event//EN
X-WR-TIMEZONE:Europe/Rome
BEGIN:VEVENT
SUMMARY:3rd Workshop on Seismic Metamaterials
DTSTART;TZID=Europe/Rome;VALUE=DATE-TIME:20170515T083000
DTEND;TZID=Europe/Rome;VALUE=DATE-TIME:20170516T140000
DTSTAMP;VALUE=DATE-TIME:20260419T153457Z
UID:cd9abe3caf7b472988c0aa8de79aa41c@dicam.unibo.it
CREATED;VALUE=DATE-TIME:20170426T061228Z
DESCRIPTION:Metamaterials to reduce the seismic vulnerability of structure
 s and infrastructures.
LAST-MODIFIED;VALUE=DATE-TIME:20170426T083157Z
URL:https://dicam.unibo.it/it/eventi/3rd-workshop-on-seismic-metamaterials
END:VEVENT
BEGIN:VTIMEZONE
TZID:Europe/Rome
X-LIC-LOCATION:Europe/Rome
BEGIN:DAYLIGHT
DTSTART;VALUE=DATE-TIME:20170326T030000
TZNAME:CEST
TZOFFSETFROM:+0100
TZOFFSETTO:+0200
END:DAYLIGHT
END:VTIMEZONE
END:VCALENDAR
