BEGIN:VCALENDAR
VERSION:2.0
PRODID:-//Plone.org//NONSGML plone.app.event//EN
X-WR-TIMEZONE:Europe/Rome
BEGIN:VEVENT
SUMMARY:A step to the CO2 neutral concrete: CO2 Mineralization Methods in 
 Cement and Concrete Industry
DTSTART;TZID=Europe/Rome;VALUE=DATE-TIME:20230316T160000
DTEND;TZID=Europe/Rome;VALUE=DATE-TIME:20230316T190000
DTSTAMP;VALUE=DATE-TIME:20260421T061205Z
UID:cab56a328cd5431b850e74f89e9696b0@dicam.unibo.it
CREATED;VALUE=DATE-TIME:20230308T082443Z
DESCRIPTION:Dr. Mohsen Ben Haha\, Heidelberg Cement AG\, Germany
LAST-MODIFIED;VALUE=DATE-TIME:20230316T082343Z
URL:https://dicam.unibo.it/it/eventi/a-step-to-the-co2-neutral-concrete-co
 2-mineralization-methods-in-cement-and-concrete-industry
END:VEVENT
BEGIN:VTIMEZONE
TZID:Europe/Rome
X-LIC-LOCATION:Europe/Rome
BEGIN:STANDARD
DTSTART;VALUE=DATE-TIME:20221030T020000
TZNAME:CET
TZOFFSETFROM:+0200
TZOFFSETTO:+0100
END:STANDARD
END:VTIMEZONE
END:VCALENDAR
