BEGIN:VCALENDAR
VERSION:2.0
PRODID:-//Plone.org//NONSGML plone.app.event//EN
X-WR-TIMEZONE:Europe/Rome
BEGIN:VEVENT
SUMMARY:Accoglienza per gli studenti dei corsi internazionali
DTSTART;TZID=Europe/Rome;VALUE=DATE-TIME:20150911T110000
DTEND;TZID=Europe/Rome;VALUE=DATE-TIME:20150917T180000
DTSTAMP;VALUE=DATE-TIME:20260421T080120Z
UID:13e26a7e2dae475b8c5d1804437a9674@dicam.unibo.it
CREATED;VALUE=DATE-TIME:20150807T085030Z
DESCRIPTION:orari dei front office\; incontri di approfondimento sugli ins
 egnamenti\; quando sostenere il placement test per accedere ai corsi di pr
 eparazione al TOEFL\, ed altro. Segui il link 'Ulteriori informazioni su q
 uesto evento'
LAST-MODIFIED;VALUE=DATE-TIME:20150807T085104Z
URL:https://dicam.unibo.it/it/eventi/accoglienza-per-gli-studenti-dei-cors
 i-internazionali
END:VEVENT
BEGIN:VTIMEZONE
TZID:Europe/Rome
X-LIC-LOCATION:Europe/Rome
BEGIN:DAYLIGHT
DTSTART;VALUE=DATE-TIME:20150329T030000
TZNAME:CEST
TZOFFSETFROM:+0100
TZOFFSETTO:+0200
END:DAYLIGHT
END:VTIMEZONE
END:VCALENDAR
