BEGIN:VCALENDAR
VERSION:2.0
PRODID:-//Plone.org//NONSGML plone.app.event//EN
X-WR-TIMEZONE:Europe/Rome
BEGIN:VEVENT
SUMMARY:Advanced gas-solid chemical looping reactors for cost-effective pr
 oduction of clean chemicals
DTSTART;TZID=Europe/Rome;VALUE=DATE-TIME:20230718T110000
DTEND;TZID=Europe/Rome;VALUE=DATE-TIME:20230718T130000
DTSTAMP;VALUE=DATE-TIME:20260421T061145Z
UID:5f285cda854e4454831089cd70a4a73e@dicam.unibo.it
CREATED;VALUE=DATE-TIME:20230710T095335Z
DESCRIPTION:Prof. Vincenzo Spallina\, The University of Manchester
LAST-MODIFIED;VALUE=DATE-TIME:20230710T095431Z
URL:https://dicam.unibo.it/it/eventi/advanced-gas-solid-chemical-looping-r
 eactors-for-cost-effective-production-of-clean-chemicals
END:VEVENT
BEGIN:VTIMEZONE
TZID:Europe/Rome
X-LIC-LOCATION:Europe/Rome
BEGIN:DAYLIGHT
DTSTART;VALUE=DATE-TIME:20230326T030000
TZNAME:CEST
TZOFFSETFROM:+0100
TZOFFSETTO:+0200
END:DAYLIGHT
END:VTIMEZONE
END:VCALENDAR
