BEGIN:VCALENDAR
VERSION:2.0
PRODID:-//Plone.org//NONSGML plone.app.event//EN
X-WR-TIMEZONE:Europe/Rome
BEGIN:VEVENT
SUMMARY:Aerobic cometabolic bioremediation of aquifers contaminated by chl
 orinated and non-chlorinated hydrocarbons using gellan-gum hydrogels that 
 co-encapsulate slow release compounds and selected Rhodococcus bacterial s
 trains
DTSTART;TZID=Europe/Rome;VALUE=DATE-TIME:20230502T153000
DTEND;TZID=Europe/Rome;VALUE=DATE-TIME:20230502T180000
DTSTAMP;VALUE=DATE-TIME:20260421T061320Z
UID:e17a8e4221bf48a1b79bc3467202ef2e@dicam.unibo.it
CREATED;VALUE=DATE-TIME:20230418T075446Z
DESCRIPTION:Prof. Lewis Semprini\, Oregon State UNiversity
LAST-MODIFIED;VALUE=DATE-TIME:20230428T161735Z
URL:https://dicam.unibo.it/it/eventi/aerobic-cometabolic-bioremediation-of
 -aquifers-contaminated-by-chlorinated-and-non-chlorinated-hydrocarbons-usi
 ng-gellan-gum-hydrogels-that-co-encapsulate-slow-release-compounds-and-sel
 ected-rhodococcus-bacterial-strains-1
END:VEVENT
BEGIN:VTIMEZONE
TZID:Europe/Rome
X-LIC-LOCATION:Europe/Rome
BEGIN:DAYLIGHT
DTSTART;VALUE=DATE-TIME:20230326T030000
TZNAME:CEST
TZOFFSETFROM:+0100
TZOFFSETTO:+0200
END:DAYLIGHT
END:VTIMEZONE
END:VCALENDAR
