BEGIN:VCALENDAR
VERSION:2.0
PRODID:-//Plone.org//NONSGML plone.app.event//EN
X-WR-TIMEZONE:Europe/Rome
BEGIN:VEVENT
SUMMARY:Advances in numerical modelling of masonry and cultural heritage s
 tructures
DTSTART;TZID=Europe/Rome;VALUE=DATE-TIME:20240529T133000
DTEND;TZID=Europe/Rome;VALUE=DATE-TIME:20240529T160000
DTSTAMP;VALUE=DATE-TIME:20260421T061322Z
UID:d6052c4cf70345ce8094ec9557fa8e63@dicam.unibo.it
CREATED;VALUE=DATE-TIME:20240510T104747Z
DESCRIPTION:Antonio Maria D’Altri (Senior Assistant Professor\, Universi
 ty of Bologna)
LAST-MODIFIED;VALUE=DATE-TIME:20240510T104939Z
URL:https://dicam.unibo.it/it/eventi/antonio-maria-d-altri-senior-assistan
 t-professor-university-of-bologna
END:VEVENT
BEGIN:VTIMEZONE
TZID:Europe/Rome
X-LIC-LOCATION:Europe/Rome
BEGIN:DAYLIGHT
DTSTART;VALUE=DATE-TIME:20240331T030000
TZNAME:CEST
TZOFFSETFROM:+0100
TZOFFSETTO:+0200
END:DAYLIGHT
END:VTIMEZONE
END:VCALENDAR
