BEGIN:VCALENDAR
VERSION:2.0
PRODID:-//Plone.org//NONSGML plone.app.event//EN
X-WR-TIMEZONE:Europe/Rome
BEGIN:VEVENT
SUMMARY:Seminario Prof. Poluzzi: "Aspetti progettuali e costruttivi di un 
 ponte viadotto sul Fiume Tanagro dell’Autostrada Salerno-Reggio Calabria
 "
DTSTART;TZID=Europe/Rome;VALUE=DATE-TIME:20151130T110000
DTEND;TZID=Europe/Rome;VALUE=DATE-TIME:20151130T140000
DTSTAMP;VALUE=DATE-TIME:20260421T080443Z
UID:8b6171653be9486f8d28e3b0d3b75fe7@dicam.unibo.it
CREATED;VALUE=DATE-TIME:20151127T072516Z
LAST-MODIFIED;VALUE=DATE-TIME:20151127T075611Z
URL:https://dicam.unibo.it/it/eventi/aspetti-progettuali-e-costruttivi-di-
 un-ponte-viadotto-sul-fiume-tanagro-dell2019autostrada-salerno-reggio-cala
 bria
END:VEVENT
BEGIN:VTIMEZONE
TZID:Europe/Rome
X-LIC-LOCATION:Europe/Rome
BEGIN:STANDARD
DTSTART;VALUE=DATE-TIME:20151025T020000
TZNAME:CET
TZOFFSETFROM:+0200
TZOFFSETTO:+0100
END:STANDARD
END:VTIMEZONE
END:VCALENDAR
