BEGIN:VCALENDAR
VERSION:2.0
PRODID:-//Plone.org//NONSGML plone.app.event//EN
X-WR-TIMEZONE:Europe/Rome
BEGIN:VEVENT
SUMMARY:Beneficial Aspects of Multicolumn Countercurrent Solvent Gradient 
 Purification (MCSGP) in Difficult Center Cut Separations
DTSTART;TZID=Europe/Rome;VALUE=DATE-TIME:20221102T160000
DTEND;TZID=Europe/Rome;VALUE=DATE-TIME:20221102T190000
DTSTAMP;VALUE=DATE-TIME:20260426T054238Z
UID:07dfe89e3a9e487d9b890d12b2367905@dicam.unibo.it
CREATED;VALUE=DATE-TIME:20221021T110801Z
DESCRIPTION:Dr Mattia Sponchioni\, Dipartimento di Chimica\, Materiali e I
 ngegneria Chimica “Giulio Natta” Politecnico di Milano
LAST-MODIFIED;VALUE=DATE-TIME:20221021T111316Z
URL:https://dicam.unibo.it/it/eventi/beneficial-aspects-of-multicolumn-cou
 ntercurrent-solvent-gradient-purification-mcsgp-in-difficult-center-cut-se
 parations
END:VEVENT
BEGIN:VTIMEZONE
TZID:Europe/Rome
X-LIC-LOCATION:Europe/Rome
BEGIN:STANDARD
DTSTART;VALUE=DATE-TIME:20221030T020000
TZNAME:CET
TZOFFSETFROM:+0200
TZOFFSETTO:+0100
END:STANDARD
END:VTIMEZONE
END:VCALENDAR
