BEGIN:VCALENDAR
VERSION:2.0
PRODID:-//Plone.org//NONSGML plone.app.event//EN
X-WR-TIMEZONE:Europe/Rome
BEGIN:VEVENT
SUMMARY:Beyond molecular simulation: simple models to explore complex prob
 lems
DTSTART;TZID=Europe/Rome;VALUE=DATE-TIME:20200603T180000
DTEND;TZID=Europe/Rome;VALUE=DATE-TIME:20200603T190000
DTSTAMP;VALUE=DATE-TIME:20260425T055440Z
UID:399498f78f4342a4a25d9a6590c26688@dicam.unibo.it
CREATED;VALUE=DATE-TIME:20200527T150900Z
DESCRIPTION:Seminario Prof. Lev Sarkisov (University of Manchester)
LAST-MODIFIED;VALUE=DATE-TIME:20250623T103831Z
URL:https://dicam.unibo.it/it/eventi/beyond-molecular-simulation-simple-mo
 dels-to-explore-complex-problems
END:VEVENT
BEGIN:VTIMEZONE
TZID:Europe/Rome
X-LIC-LOCATION:Europe/Rome
BEGIN:DAYLIGHT
DTSTART;VALUE=DATE-TIME:20200329T030000
TZNAME:CEST
TZOFFSETFROM:+0100
TZOFFSETTO:+0200
END:DAYLIGHT
END:VTIMEZONE
END:VCALENDAR
