BEGIN:VCALENDAR
VERSION:2.0
PRODID:-//Plone.org//NONSGML plone.app.event//EN
X-WR-TIMEZONE:Europe/Rome
BEGIN:VEVENT
SUMMARY:Bio-based polymers for coatings applications
DTSTART;TZID=Europe/Rome;VALUE=DATE-TIME:20230606T150000
DTEND;TZID=Europe/Rome;VALUE=DATE-TIME:20230606T180000
DTSTAMP;VALUE=DATE-TIME:20260421T060814Z
UID:ef9e1b741b8548038a2679c8c9a9395f@dicam.unibo.it
CREATED;VALUE=DATE-TIME:20230515T080456Z
DESCRIPTION:Dr. Tobias Robert
LAST-MODIFIED;VALUE=DATE-TIME:20230515T082414Z
URL:https://dicam.unibo.it/it/eventi/bio-based-polymers-for-coatings-appli
 cations
END:VEVENT
BEGIN:VTIMEZONE
TZID:Europe/Rome
X-LIC-LOCATION:Europe/Rome
BEGIN:DAYLIGHT
DTSTART;VALUE=DATE-TIME:20230326T030000
TZNAME:CEST
TZOFFSETFROM:+0100
TZOFFSETTO:+0200
END:DAYLIGHT
END:VTIMEZONE
END:VCALENDAR
