BEGIN:VCALENDAR
VERSION:2.0
PRODID:-//Plone.org//NONSGML plone.app.event//EN
X-WR-TIMEZONE:Europe/Rome
BEGIN:VEVENT
SUMMARY:Biobased Industry - l’Unibo a Ecomondo 2015
DTSTART;TZID=Europe/Rome;VALUE=DATE-TIME:20151104T100000
DTEND;TZID=Europe/Rome;VALUE=DATE-TIME:20151104T163000
DTSTAMP;VALUE=DATE-TIME:20260422T135744Z
UID:bafd293d4d7a4dfc80b2437de232ae42@dicam.unibo.it
CREATED;VALUE=DATE-TIME:20151019T074513Z
DESCRIPTION:Verso una catena alimentare a zero rifiuti: tecnologie abilita
 nti per la sostenibilità dell’industria alimentare e la gestione dei ri
 fiuti in una prospettiva di economia circolare.
LAST-MODIFIED;VALUE=DATE-TIME:20151019T074543Z
URL:https://dicam.unibo.it/it/eventi/biobased-industry-l2019unibo-a-ecomon
 do-2015
END:VEVENT
BEGIN:VTIMEZONE
TZID:Europe/Rome
X-LIC-LOCATION:Europe/Rome
BEGIN:STANDARD
DTSTART;VALUE=DATE-TIME:20151025T020000
TZNAME:CET
TZOFFSETFROM:+0200
TZOFFSETTO:+0100
END:STANDARD
END:VTIMEZONE
END:VCALENDAR
