BEGIN:VCALENDAR
VERSION:2.0
PRODID:-//Plone.org//NONSGML plone.app.event//EN
X-WR-TIMEZONE:Europe/Rome
BEGIN:VEVENT
SUMMARY:BIOECONOMY Joint Event & Training Workshops Sherpack-UrBioFuture
DTSTART;TZID=Europe/Rome;VALUE=DATE-TIME:20200603T090000
DTEND;TZID=Europe/Rome;VALUE=DATE-TIME:20200603T163000
DTSTAMP;VALUE=DATE-TIME:20260425T001102Z
UID:45765ab4f6b1455495d2da0cbba4820d@dicam.unibo.it
CREATED;VALUE=DATE-TIME:20200529T121900Z
DESCRIPTION:CNR-ISOF\, Bologna\, Italy
LAST-MODIFIED;VALUE=DATE-TIME:20200529T122135Z
URL:https://dicam.unibo.it/it/eventi/bioeconomy-joint-event-training-works
 hops-sherpack-urbiofuture
END:VEVENT
BEGIN:VTIMEZONE
TZID:Europe/Rome
X-LIC-LOCATION:Europe/Rome
BEGIN:DAYLIGHT
DTSTART;VALUE=DATE-TIME:20200329T030000
TZNAME:CEST
TZOFFSETFROM:+0100
TZOFFSETTO:+0200
END:DAYLIGHT
END:VTIMEZONE
END:VCALENDAR
