BEGIN:VCALENDAR
VERSION:2.0
PRODID:-//Plone.org//NONSGML plone.app.event//EN
X-WR-TIMEZONE:Europe/Rome
BEGIN:VEVENT
SUMMARY:Biomass earth construction - from past to future
DTSTART;TZID=Europe/Rome;VALUE=DATE-TIME:20241009T110000
DTEND;TZID=Europe/Rome;VALUE=DATE-TIME:20241009T130000
DTSTAMP;VALUE=DATE-TIME:20260421T025154Z
UID:37c6a92d6f0643e6a3e4239b25d98407@dicam.unibo.it
CREATED;VALUE=DATE-TIME:20241001T073713Z
DESCRIPTION:Professoressa Paulina Faria della Nova University of Lisbon\, 
 Portugal
LAST-MODIFIED;VALUE=DATE-TIME:20241001T074200Z
URL:https://dicam.unibo.it/it/eventi/biomass-earth-construction-from-past-
 to-future-1
END:VEVENT
BEGIN:VTIMEZONE
TZID:Europe/Rome
X-LIC-LOCATION:Europe/Rome
BEGIN:DAYLIGHT
DTSTART;VALUE=DATE-TIME:20240331T030000
TZNAME:CEST
TZOFFSETFROM:+0100
TZOFFSETTO:+0200
END:DAYLIGHT
END:VTIMEZONE
END:VCALENDAR
