BEGIN:VCALENDAR
VERSION:2.0
PRODID:-//Plone.org//NONSGML plone.app.event//EN
X-WR-TIMEZONE:Europe/Rome
BEGIN:VEVENT
SUMMARY:Long-Span Bridge Aeroelasticity against Stationary and Nonstationa
 ry Wind Loads: Emerging Research Experiences
DTSTART;TZID=Europe/Rome;VALUE=DATE-TIME:20241209T100000
DTEND;TZID=Europe/Rome;VALUE=DATE-TIME:20241209T130000
DTSTAMP;VALUE=DATE-TIME:20260421T025115Z
UID:4b8c847d8592401d86b561bd527ad1fd@dicam.unibo.it
CREATED;VALUE=DATE-TIME:20241001T073555Z
DESCRIPTION:Prof. Luca Patruno\, I am pleased to announce the following
LAST-MODIFIED;VALUE=DATE-TIME:20241010T122225Z
URL:https://dicam.unibo.it/it/eventi/biomass-earth-construction-from-past-
 to-future
END:VEVENT
BEGIN:VTIMEZONE
TZID:Europe/Rome
X-LIC-LOCATION:Europe/Rome
BEGIN:STANDARD
DTSTART;VALUE=DATE-TIME:20241027T020000
TZNAME:CET
TZOFFSETFROM:+0200
TZOFFSETTO:+0100
END:STANDARD
END:VTIMEZONE
END:VCALENDAR
