BEGIN:VCALENDAR
VERSION:2.0
PRODID:-//Plone.org//NONSGML plone.app.event//EN
X-WR-TIMEZONE:Europe/Rome
BEGIN:VEVENT
SUMMARY:C@MI  "Course @ lianextrim for Mobility and Infrastructure"
DTSTART;VALUE=DATE:20240624
DTEND;VALUE=DATE:20240628
DTSTAMP;VALUE=DATE-TIME:20260421T061851Z
UID:14d71a5fb2a6406e8965ed3558dbd1c7@dicam.unibo.it
CREATED;VALUE=DATE-TIME:20240408T091445Z
DESCRIPTION:Partner: Universitè Gustave Eiffel
LAST-MODIFIED;VALUE=DATE-TIME:20240408T091713Z
URL:https://dicam.unibo.it/it/eventi/c-mi-course-lianextrim-for-mobility-a
 nd-infrastructure
END:VEVENT
END:VCALENDAR
