BEGIN:VCALENDAR
VERSION:2.0
PRODID:-//Plone.org//NONSGML plone.app.event//EN
X-WR-TIMEZONE:Europe/Rome
BEGIN:VEVENT
SUMMARY:Career Day 1 marzo 2016
DTSTART;TZID=Europe/Rome;VALUE=DATE-TIME:20160301T093000
DTEND;TZID=Europe/Rome;VALUE=DATE-TIME:20160301T170000
DTSTAMP;VALUE=DATE-TIME:20260421T093644Z
UID:d331038ec7484aa1b2ff22343a48974e@dicam.unibo.it
CREATED;VALUE=DATE-TIME:20160210T065657Z
DESCRIPTION:Iscriviti online\, conosci le aziende e lascia il tuo CV.
LAST-MODIFIED;VALUE=DATE-TIME:20160210T065731Z
URL:https://dicam.unibo.it/it/eventi/career-day-1-marzo-2016
END:VEVENT
BEGIN:VTIMEZONE
TZID:Europe/Rome
X-LIC-LOCATION:Europe/Rome
BEGIN:STANDARD
DTSTART;VALUE=DATE-TIME:20151025T020000
TZNAME:CET
TZOFFSETFROM:+0200
TZOFFSETTO:+0100
END:STANDARD
END:VTIMEZONE
END:VCALENDAR
