BEGIN:VCALENDAR
VERSION:2.0
PRODID:-//Plone.org//NONSGML plone.app.event//EN
X-WR-TIMEZONE:Europe/Rome
BEGIN:VEVENT
SUMMARY:Career Day a Rimini
DTSTART;TZID=Europe/Rome;VALUE=DATE-TIME:20241105T100000
DTEND;TZID=Europe/Rome;VALUE=DATE-TIME:20241105T160000
DTSTAMP;VALUE=DATE-TIME:20260421T042751Z
UID:166a2725a160434fbdb6cdd02255ae5f@dicam.unibo.it
CREATED;VALUE=DATE-TIME:20241023T113331Z
DESCRIPTION:Il 5 novembre incontra le imprese e sperimenta il tuo approcci
 o al mondo del lavoro. Iscriviti ora!
LAST-MODIFIED;VALUE=DATE-TIME:20241023T113442Z
URL:https://dicam.unibo.it/it/eventi/career-day-a-rimini
END:VEVENT
BEGIN:VTIMEZONE
TZID:Europe/Rome
X-LIC-LOCATION:Europe/Rome
BEGIN:STANDARD
DTSTART;VALUE=DATE-TIME:20241027T020000
TZNAME:CET
TZOFFSETFROM:+0200
TZOFFSETTO:+0100
END:STANDARD
END:VTIMEZONE
END:VCALENDAR
