BEGIN:VCALENDAR
VERSION:2.0
PRODID:-//Plone.org//NONSGML plone.app.event//EN
X-WR-TIMEZONE:Europe/Rome
BEGIN:VEVENT
SUMMARY:Career day
DTSTART;TZID=Europe/Rome;VALUE=DATE-TIME:20190226T093000
DTEND;TZID=Europe/Rome;VALUE=DATE-TIME:20190226T170000
DTSTAMP;VALUE=DATE-TIME:20260424T083414Z
UID:a18700ccac1e4e1fa40fabbcd3c05c2b@dicam.unibo.it
CREATED;VALUE=DATE-TIME:20190123T090407Z
DESCRIPTION:Iscriviti online\, conosci le aziende e lascia il tuo cv. Part
 ecipa all'edizione 2019 del Career Day che si svolgerà il 26 febbraio pre
 sso i padiglioni di Bologna Fiere.
LAST-MODIFIED;VALUE=DATE-TIME:20190123T090541Z
URL:https://dicam.unibo.it/it/eventi/career-day
END:VEVENT
BEGIN:VTIMEZONE
TZID:Europe/Rome
X-LIC-LOCATION:Europe/Rome
BEGIN:STANDARD
DTSTART;VALUE=DATE-TIME:20181028T020000
TZNAME:CET
TZOFFSETFROM:+0200
TZOFFSETTO:+0100
END:STANDARD
END:VTIMEZONE
END:VCALENDAR
