BEGIN:VCALENDAR
VERSION:2.0
PRODID:-//Plone.org//NONSGML plone.app.event//EN
X-WR-TIMEZONE:Europe/Rome
BEGIN:VEVENT
SUMMARY:Cineforum Terracini in Transizione - proiezione "Home"
DTSTART;TZID=Europe/Rome;VALUE=DATE-TIME:20151026T143000
DTEND;TZID=Europe/Rome;VALUE=DATE-TIME:20151026T163000
DTSTAMP;VALUE=DATE-TIME:20260421T080335Z
UID:411c7ae48a01494eb9576e9c87471a98@dicam.unibo.it
CREATED;VALUE=DATE-TIME:20151022T055654Z
DESCRIPTION:L'avvio del nuovo ciclo di cineforum promosso dal Gruppo Terra
 cini in Transizione.
LAST-MODIFIED;VALUE=DATE-TIME:20151022T060131Z
URL:https://dicam.unibo.it/it/eventi/cineforum-terracini-in-transizione-pr
 oiezione-home
END:VEVENT
BEGIN:VTIMEZONE
TZID:Europe/Rome
X-LIC-LOCATION:Europe/Rome
BEGIN:STANDARD
DTSTART;VALUE=DATE-TIME:20151025T020000
TZNAME:CET
TZOFFSETFROM:+0200
TZOFFSETTO:+0100
END:STANDARD
END:VTIMEZONE
END:VCALENDAR
