BEGIN:VCALENDAR
VERSION:2.0
PRODID:-//Plone.org//NONSGML plone.app.event//EN
X-WR-TIMEZONE:Europe/Rome
BEGIN:VEVENT
SUMMARY:Cineforum Terracini in Transizione - proiezione "La Terra vista da
 l cielo" 
DTSTART;TZID=Europe/Rome;VALUE=DATE-TIME:20151214T143000
DTEND;TZID=Europe/Rome;VALUE=DATE-TIME:20151214T163000
DTSTAMP;VALUE=DATE-TIME:20260421T100141Z
UID:5a82fdf7935d426fad5f440296605e6d@dicam.unibo.it
CREATED;VALUE=DATE-TIME:20151209T131532Z
LAST-MODIFIED;VALUE=DATE-TIME:20151209T131626Z
URL:https://dicam.unibo.it/it/eventi/cineforum-terracini-in-transizione-pr
 oiezione-la-terra-vista-dal-cielo
END:VEVENT
BEGIN:VTIMEZONE
TZID:Europe/Rome
X-LIC-LOCATION:Europe/Rome
BEGIN:STANDARD
DTSTART;VALUE=DATE-TIME:20151025T020000
TZNAME:CET
TZOFFSETFROM:+0200
TZOFFSETTO:+0100
END:STANDARD
END:VTIMEZONE
END:VCALENDAR
