BEGIN:VCALENDAR
VERSION:2.0
PRODID:-//Plone.org//NONSGML plone.app.event//EN
X-WR-TIMEZONE:Europe/Rome
BEGIN:VEVENT
SUMMARY:Cineforum Terracini in Transizione - proiezione "Waste Land" 
DTSTART;TZID=Europe/Rome;VALUE=DATE-TIME:20151123T143000
DTEND;TZID=Europe/Rome;VALUE=DATE-TIME:20151123T163000
DTSTAMP;VALUE=DATE-TIME:20260421T080424Z
UID:8d36c7b46fa54f26b7ea002dc39ab041@dicam.unibo.it
CREATED;VALUE=DATE-TIME:20151120T090633Z
LAST-MODIFIED;VALUE=DATE-TIME:20151123T100417Z
URL:https://dicam.unibo.it/it/eventi/cineforum-terracini-in-transizione-pr
 oiezione-waste-land
END:VEVENT
BEGIN:VTIMEZONE
TZID:Europe/Rome
X-LIC-LOCATION:Europe/Rome
BEGIN:STANDARD
DTSTART;VALUE=DATE-TIME:20151025T020000
TZNAME:CET
TZOFFSETFROM:+0200
TZOFFSETTO:+0100
END:STANDARD
END:VTIMEZONE
END:VCALENDAR
