BEGIN:VCALENDAR
VERSION:2.0
PRODID:-//Plone.org//NONSGML plone.app.event//EN
X-WR-TIMEZONE:Europe/Rome
BEGIN:VEVENT
SUMMARY:Climate Change and Coastal adaptation day - 20 aprile 2015
DTSTART;TZID=Europe/Rome;VALUE=DATE-TIME:20150420T000000
DTEND;TZID=Europe/Rome;VALUE=DATE-TIME:20150420T000000
DTSTAMP;VALUE=DATE-TIME:20260421T061120Z
UID:fd7bdc6a56f3415c9ee8f34edd3af9f6@dicam.unibo.it
CREATED;VALUE=DATE-TIME:20150319T071724Z
DESCRIPTION:Una conferenza per discutere sulle possibili sinergie tra isti
 tuti di Ricerca\, autorità pubbliche e aziende verso uno sviluppo climate
 -smart. Scadenza per iscriversi: 15 aprile 2015.\n
LAST-MODIFIED;VALUE=DATE-TIME:20150319T071751Z
URL:https://dicam.unibo.it/it/eventi/climate-change-and-coastal-adaptation
 -day-20-aprile-2015
END:VEVENT
BEGIN:VTIMEZONE
TZID:Europe/Rome
X-LIC-LOCATION:Europe/Rome
BEGIN:DAYLIGHT
DTSTART;VALUE=DATE-TIME:20150329T030000
TZNAME:CEST
TZOFFSETFROM:+0100
TZOFFSETTO:+0200
END:DAYLIGHT
END:VTIMEZONE
END:VCALENDAR
