BEGIN:VCALENDAR
VERSION:2.0
PRODID:-//Plone.org//NONSGML plone.app.event//EN
X-WR-TIMEZONE:Europe/Rome
BEGIN:VEVENT
SUMMARY:Coal Mining Technology and Coal Mine Disasters
DTSTART;TZID=Europe/Rome;VALUE=DATE-TIME:20230426T110000
DTEND;TZID=Europe/Rome;VALUE=DATE-TIME:20230426T120000
DTSTAMP;VALUE=DATE-TIME:20260421T061845Z
UID:24b077e2a3fe46c78c8b194a720c99ef@dicam.unibo.it
CREATED;VALUE=DATE-TIME:20230426T074609Z
DESCRIPTION:Chu Xiangyu\, China University of Mining & Technology-Beijing
LAST-MODIFIED;VALUE=DATE-TIME:20250623T103159Z
URL:https://dicam.unibo.it/it/eventi/coal-mining-technology-and-coal-mine-
 disasters
END:VEVENT
BEGIN:VTIMEZONE
TZID:Europe/Rome
X-LIC-LOCATION:Europe/Rome
BEGIN:DAYLIGHT
DTSTART;VALUE=DATE-TIME:20230326T030000
TZNAME:CEST
TZOFFSETFROM:+0100
TZOFFSETTO:+0200
END:DAYLIGHT
END:VTIMEZONE
END:VCALENDAR
