BEGIN:VCALENDAR
VERSION:2.0
PRODID:-//Plone.org//NONSGML plone.app.event//EN
X-WR-TIMEZONE:Europe/Rome
BEGIN:VEVENT
SUMMARY:Computational chemistry applications in materials science and engi
 neering: from water purification to marble conservation treatments
DTSTART;TZID=Europe/Rome;VALUE=DATE-TIME:20220629T150000
DTEND;TZID=Europe/Rome;VALUE=DATE-TIME:20220629T160000
DTSTAMP;VALUE=DATE-TIME:20260421T020817Z
UID:ceb59647e27547cea20d4dc5da4a4197@dicam.unibo.it
CREATED;VALUE=DATE-TIME:20220621T114227Z
DESCRIPTION:Prof. Martina Lessio\, University of New South Wales\, Sydney\
 , Australia
LAST-MODIFIED;VALUE=DATE-TIME:20220622T064144Z
URL:https://dicam.unibo.it/it/eventi/computational-chemistry-applications-
 in-materials-science-and-engineering-from-water-purification-to-marble-con
 servation-treatments
END:VEVENT
BEGIN:VTIMEZONE
TZID:Europe/Rome
X-LIC-LOCATION:Europe/Rome
BEGIN:DAYLIGHT
DTSTART;VALUE=DATE-TIME:20220327T030000
TZNAME:CEST
TZOFFSETFROM:+0100
TZOFFSETTO:+0200
END:DAYLIGHT
END:VTIMEZONE
END:VCALENDAR
