BEGIN:VCALENDAR
VERSION:2.0
PRODID:-//Plone.org//NONSGML plone.app.event//EN
X-WR-TIMEZONE:Europe/Rome
BEGIN:VEVENT
SUMMARY:Concorso fotografico "Bologna 200 anni fa e oggi. Scatta le differ
 enze"
DTSTART;VALUE=DATE:20170808
DTEND;VALUE=DATE:20170916
DTSTAMP;VALUE=DATE-TIME:20260423T223105Z
UID:fc37d84d19134962811056155dffe072@dicam.unibo.it
CREATED;VALUE=DATE-TIME:20170822T073511Z
DESCRIPTION:Scatta un fotoconfronto di Bologna tra ieri e oggi.\nE sperime
 nta un viaggio nella Bologna del passato all'interno di un GIS.
LAST-MODIFIED;VALUE=DATE-TIME:20170823T053604Z
URL:https://dicam.unibo.it/it/eventi/concorso-fotografico-bologna-200-anni
 -fa-e-oggi.-scatta-le-differenze
END:VEVENT
END:VCALENDAR
