BEGIN:VCALENDAR
VERSION:2.0
PRODID:-//Plone.org//NONSGML plone.app.event//EN
X-WR-TIMEZONE:Europe/Rome
BEGIN:VEVENT
SUMMARY:Conferenza: “Evoluzione dell’insegnamento della Scienza delle 
 costruzioni a Bologna” 
DTSTART;TZID=Europe/Rome;VALUE=DATE-TIME:20150420T170000
DTEND;TZID=Europe/Rome;VALUE=DATE-TIME:20150420T190000
DTSTAMP;VALUE=DATE-TIME:20260421T061320Z
UID:c2d45dd077db43f9ba84fa789b86e2fb@dicam.unibo.it
CREATED;VALUE=DATE-TIME:20150413T083208Z
DESCRIPTION:(dalla fondazione della Scuola di Applicazione fino al 1975)
LAST-MODIFIED;VALUE=DATE-TIME:20250624T062859Z
URL:https://dicam.unibo.it/it/eventi/conferenza-201cevoluzione-dell2019ins
 egnamento-della-scienza-delle-costruzioni-a-bologna201d
END:VEVENT
BEGIN:VTIMEZONE
TZID:Europe/Rome
X-LIC-LOCATION:Europe/Rome
BEGIN:DAYLIGHT
DTSTART;VALUE=DATE-TIME:20150329T030000
TZNAME:CEST
TZOFFSETFROM:+0100
TZOFFSETTO:+0200
END:DAYLIGHT
END:VTIMEZONE
END:VCALENDAR
