BEGIN:VCALENDAR
VERSION:2.0
PRODID:-//Plone.org//NONSGML plone.app.event//EN
X-WR-TIMEZONE:Europe/Rome
BEGIN:VEVENT
SUMMARY:Convegno "Frontiere".
DTSTART;TZID=Europe/Rome;VALUE=DATE-TIME:20150129T140000
DTEND;TZID=Europe/Rome;VALUE=DATE-TIME:20150130T190000
DTSTAMP;VALUE=DATE-TIME:20260421T042607Z
UID:533f9b9e79754c15a85c1c2f28c5eb4b@dicam.unibo.it
CREATED;VALUE=DATE-TIME:20150121T074652Z
LAST-MODIFIED;VALUE=DATE-TIME:20250623T103321Z
URL:https://dicam.unibo.it/it/eventi/convegno-frontiere
END:VEVENT
BEGIN:VTIMEZONE
TZID:Europe/Rome
X-LIC-LOCATION:Europe/Rome
BEGIN:STANDARD
DTSTART;VALUE=DATE-TIME:20141026T020000
TZNAME:CET
TZOFFSETFROM:+0200
TZOFFSETTO:+0100
END:STANDARD
END:VTIMEZONE
END:VCALENDAR
