BEGIN:VCALENDAR
VERSION:2.0
PRODID:-//Plone.org//NONSGML plone.app.event//EN
X-WR-TIMEZONE:Europe/Rome
BEGIN:VEVENT
SUMMARY:Convegno - I nostri primi 10 anni - L’attualità del magistero d
 el Prof. Fulvio Ciancabilla a dieci anni dalla scomparsa
DTSTART;TZID=Europe/Rome;VALUE=DATE-TIME:20160318T090000
DTEND;TZID=Europe/Rome;VALUE=DATE-TIME:20160318T133000
DTSTAMP;VALUE=DATE-TIME:20260421T093825Z
UID:92505449916d4668b5f3af670095eecb@dicam.unibo.it
CREATED;VALUE=DATE-TIME:20160302T093500Z
LAST-MODIFIED;VALUE=DATE-TIME:20160302T093927Z
URL:https://dicam.unibo.it/it/eventi/convegno-i-nostri-primi-10-anni
END:VEVENT
BEGIN:VTIMEZONE
TZID:Europe/Rome
X-LIC-LOCATION:Europe/Rome
BEGIN:STANDARD
DTSTART;VALUE=DATE-TIME:20151025T020000
TZNAME:CET
TZOFFSETFROM:+0200
TZOFFSETTO:+0100
END:STANDARD
END:VTIMEZONE
END:VCALENDAR
