BEGIN:VCALENDAR
VERSION:2.0
PRODID:-//Plone.org//NONSGML plone.app.event//EN
X-WR-TIMEZONE:Europe/Rome
BEGIN:VEVENT
SUMMARY:Convegno: La Grande Guerra (1914-1918)
DTSTART;TZID=Europe/Rome;VALUE=DATE-TIME:20160509T110000
DTEND;TZID=Europe/Rome;VALUE=DATE-TIME:20160510T180000
DTSTAMP;VALUE=DATE-TIME:20260421T094009Z
UID:dd5184744b8e4d2199bd943494f1fee3@dicam.unibo.it
CREATED;VALUE=DATE-TIME:20160503T101536Z
DESCRIPTION:La scienza\, le idee\, gli uomini.
LAST-MODIFIED;VALUE=DATE-TIME:20160503T101608Z
URL:https://dicam.unibo.it/it/eventi/convegno-la-grande-guerra-1914-1918
END:VEVENT
BEGIN:VTIMEZONE
TZID:Europe/Rome
X-LIC-LOCATION:Europe/Rome
BEGIN:DAYLIGHT
DTSTART;VALUE=DATE-TIME:20160327T030000
TZNAME:CEST
TZOFFSETFROM:+0100
TZOFFSETTO:+0200
END:DAYLIGHT
END:VTIMEZONE
END:VCALENDAR
