BEGIN:VCALENDAR
VERSION:2.0
PRODID:-//Plone.org//NONSGML plone.app.event//EN
X-WR-TIMEZONE:Europe/Rome
BEGIN:VEVENT
SUMMARY:Convegno: "Life Cycle Thinking\, sostenibilità ed economia circol
 are"
DTSTART;VALUE=DATE:20160623
DTEND;VALUE=DATE:20160625
DTSTAMP;VALUE=DATE-TIME:20260421T100151Z
UID:9031a66f0d094bbc805c5e3f3c9f2612@dicam.unibo.it
CREATED;VALUE=DATE-TIME:20160613T080736Z
DESCRIPTION:Il Convegno è organizzato dall'Associazione Rete Italiana LCA
  con il patrocinio del Campus di Ravenna – Alma Mater Studiorum Universi
 tà di Bologna\, Fondazione Flaminia per l'Università in Romagna\, Setac 
 Italian Branch.
LAST-MODIFIED;VALUE=DATE-TIME:20160613T080823Z
URL:https://dicam.unibo.it/it/eventi/convegno-life-cycle-thinking-sostenib
 ilita-ed-economia-circolare
END:VEVENT
END:VCALENDAR
