BEGIN:VCALENDAR
VERSION:2.0
PRODID:-//Plone.org//NONSGML plone.app.event//EN
X-WR-TIMEZONE:Europe/Rome
BEGIN:VEVENT
SUMMARY:Dal suolo ai piani alti: Il contributo della Sismologia alla defin
 izione del comportamento dinamico degli edifici
DTSTART;TZID=Europe/Rome;VALUE=DATE-TIME:20230313T093000
DTEND;TZID=Europe/Rome;VALUE=DATE-TIME:20230313T123000
DTSTAMP;VALUE=DATE-TIME:20260421T061321Z
UID:6a89aa0cb821454780a84b5494d0549f@dicam.unibo.it
CREATED;VALUE=DATE-TIME:20230308T104651Z
DESCRIPTION:Dott. Riccardo Azzara\, INGV
LAST-MODIFIED;VALUE=DATE-TIME:20230308T104928Z
URL:https://dicam.unibo.it/it/eventi/dal-suolo-ai-piani-alti-il-contributo
 -della-sismologia-alla-definizione-del-comportamento-dinamico-degli-edific
 i
END:VEVENT
BEGIN:VTIMEZONE
TZID:Europe/Rome
X-LIC-LOCATION:Europe/Rome
BEGIN:STANDARD
DTSTART;VALUE=DATE-TIME:20221030T020000
TZNAME:CET
TZOFFSETFROM:+0200
TZOFFSETTO:+0100
END:STANDARD
END:VTIMEZONE
END:VCALENDAR
