BEGIN:VCALENDAR
VERSION:2.0
PRODID:-//Plone.org//NONSGML plone.app.event//EN
X-WR-TIMEZONE:Europe/Rome
BEGIN:VEVENT
SUMMARY:Decommissioning of Offshore Structures: Technologies & Operating A
 pproach
DTSTART;TZID=Europe/Rome;VALUE=DATE-TIME:20201209T140000
DTEND;TZID=Europe/Rome;VALUE=DATE-TIME:20201209T180000
DTSTAMP;VALUE=DATE-TIME:20260425T175033Z
UID:ed711dad67cf41959f2c161bfa6e7227@dicam.unibo.it
CREATED;VALUE=DATE-TIME:20201209T120056Z
DESCRIPTION:Virtual Room of “Modeling of Offshore Structures”
LAST-MODIFIED;VALUE=DATE-TIME:20201209T120608Z
URL:https://dicam.unibo.it/it/eventi/decommissioning-of-offshore-structure
 s-technologies-operating-approach
END:VEVENT
BEGIN:VTIMEZONE
TZID:Europe/Rome
X-LIC-LOCATION:Europe/Rome
BEGIN:STANDARD
DTSTART;VALUE=DATE-TIME:20201025T020000
TZNAME:CET
TZOFFSETFROM:+0200
TZOFFSETTO:+0100
END:STANDARD
END:VTIMEZONE
END:VCALENDAR
