BEGIN:VCALENDAR
VERSION:2.0
PRODID:-//Plone.org//NONSGML plone.app.event//EN
X-WR-TIMEZONE:Europe/Rome
BEGIN:VEVENT
SUMMARY:DICAM live: diretta streaming su facebook
DTSTART;TZID=Europe/Rome;VALUE=DATE-TIME:20160728T100000
DTEND;TZID=Europe/Rome;VALUE=DATE-TIME:20160728T110000
DTSTAMP;VALUE=DATE-TIME:20260423T214855Z
UID:ed766b8fc4cf4ab793aeae185c7c97de@dicam.unibo.it
CREATED;VALUE=DATE-TIME:20160722T134456Z
DESCRIPTION:Seguici nel tour virtuale dei corsi di studio in: Ingegneria C
 himica e Biochimica\, \nIngegneria Civile\, Ingegneria Edile\, Ingegneria 
 per l'Ambiente e il Territorio.\n
LAST-MODIFIED;VALUE=DATE-TIME:20160722T135450Z
URL:https://dicam.unibo.it/it/eventi/dicam-live-diretta-streaming-su-faceb
 ook
END:VEVENT
BEGIN:VTIMEZONE
TZID:Europe/Rome
X-LIC-LOCATION:Europe/Rome
BEGIN:DAYLIGHT
DTSTART;VALUE=DATE-TIME:20160327T030000
TZNAME:CEST
TZOFFSETFROM:+0100
TZOFFSETTO:+0200
END:DAYLIGHT
END:VTIMEZONE
END:VCALENDAR
