BEGIN:VCALENDAR
VERSION:2.0
PRODID:-//Plone.org//NONSGML plone.app.event//EN
X-WR-TIMEZONE:Europe/Rome
BEGIN:VEVENT
SUMMARY:DICAM WORKS 2018
DTSTART;TZID=Europe/Rome;VALUE=DATE-TIME:20180620T100000
DTEND;TZID=Europe/Rome;VALUE=DATE-TIME:20180620T163000
DTSTAMP;VALUE=DATE-TIME:20260424T195509Z
UID:e9955027838149d5aa38dab998e60b8c@dicam.unibo.it
CREATED;VALUE=DATE-TIME:20180509T132618Z
DESCRIPTION:L’Ingegneria a supporto di Ricerca e Innovazione per Imprese
  e Territorio.
LAST-MODIFIED;VALUE=DATE-TIME:20180509T132700Z
URL:https://dicam.unibo.it/it/eventi/dicam-works-2018
END:VEVENT
BEGIN:VTIMEZONE
TZID:Europe/Rome
X-LIC-LOCATION:Europe/Rome
BEGIN:DAYLIGHT
DTSTART;VALUE=DATE-TIME:20180325T030000
TZNAME:CEST
TZOFFSETFROM:+0100
TZOFFSETTO:+0200
END:DAYLIGHT
END:VTIMEZONE
END:VCALENDAR
