BEGIN:VCALENDAR
VERSION:2.0
PRODID:-//Plone.org//NONSGML plone.app.event//EN
X-WR-TIMEZONE:Europe/Rome
BEGIN:VEVENT
SUMMARY:DICAM WORKS 2021
DTSTART;TZID=Europe/Rome;VALUE=DATE-TIME:20211015T090000
DTEND;TZID=Europe/Rome;VALUE=DATE-TIME:20211015T160000
DTSTAMP;VALUE=DATE-TIME:20260425T133437Z
UID:26200805eb394c429d4180d18c66325f@dicam.unibo.it
CREATED;VALUE=DATE-TIME:20210906T074102Z
DESCRIPTION:L’Ingegneria a supporto di Ricerca e Innovazione per Imprese
  e Territorio
LAST-MODIFIED;VALUE=DATE-TIME:20210906T080900Z
URL:https://dicam.unibo.it/it/eventi/dicam-works-2021
END:VEVENT
BEGIN:VTIMEZONE
TZID:Europe/Rome
X-LIC-LOCATION:Europe/Rome
BEGIN:DAYLIGHT
DTSTART;VALUE=DATE-TIME:20210328T030000
TZNAME:CEST
TZOFFSETFROM:+0100
TZOFFSETTO:+0200
END:DAYLIGHT
END:VTIMEZONE
END:VCALENDAR
