BEGIN:VCALENDAR
VERSION:2.0
PRODID:-//Plone.org//NONSGML plone.app.event//EN
X-WR-TIMEZONE:Europe/Rome
BEGIN:VEVENT
SUMMARY:DICAM WORKS!
DTSTART;TZID=Europe/Rome;VALUE=DATE-TIME:20160209T100000
DTEND;TZID=Europe/Rome;VALUE=DATE-TIME:20160209T170000
DTSTAMP;VALUE=DATE-TIME:20260421T093453Z
UID:0a857f9f68184ac5aa201e8c12c6318d@dicam.unibo.it
CREATED;VALUE=DATE-TIME:20160113T070717Z
DESCRIPTION:Ricerca e innovazione per le istituzioni\, l'industria e il te
 rritorio.
LAST-MODIFIED;VALUE=DATE-TIME:20160113T070904Z
URL:https://dicam.unibo.it/it/eventi/dicam-works
END:VEVENT
BEGIN:VTIMEZONE
TZID:Europe/Rome
X-LIC-LOCATION:Europe/Rome
BEGIN:STANDARD
DTSTART;VALUE=DATE-TIME:20151025T020000
TZNAME:CET
TZOFFSETFROM:+0200
TZOFFSETTO:+0100
END:STANDARD
END:VTIMEZONE
END:VCALENDAR
