BEGIN:VCALENDAR
VERSION:2.0
PRODID:-//Plone.org//NONSGML plone.app.event//EN
X-WR-TIMEZONE:Europe/Rome
BEGIN:VEVENT
SUMMARY:Digital Approaches to Cartographic Heritage
DTSTART;TZID=Europe/Rome;VALUE=DATE-TIME:20241023T140000
DTEND;TZID=Europe/Rome;VALUE=DATE-TIME:20241025T153000
DTSTAMP;VALUE=DATE-TIME:20260421T042930Z
UID:0e78cbb5ed8045d0b51800c5f4fe9be0@dicam.unibo.it
CREATED;VALUE=DATE-TIME:20241022T072704Z
LAST-MODIFIED;VALUE=DATE-TIME:20241022T130124Z
URL:https://dicam.unibo.it/it/eventi/digital-approaches-to-cartographic-he
 ritage
END:VEVENT
BEGIN:VTIMEZONE
TZID:Europe/Rome
X-LIC-LOCATION:Europe/Rome
BEGIN:DAYLIGHT
DTSTART;VALUE=DATE-TIME:20240331T030000
TZNAME:CEST
TZOFFSETFROM:+0100
TZOFFSETTO:+0200
END:DAYLIGHT
END:VTIMEZONE
END:VCALENDAR
