BEGIN:VCALENDAR
VERSION:2.0
PRODID:-//Plone.org//NONSGML plone.app.event//EN
X-WR-TIMEZONE:Europe/Rome
BEGIN:VEVENT
SUMMARY:DIN-ECO annuncia un ciclo completo di seminari per aspiranti impre
 nditori
DTSTART;TZID=Europe/Rome;VALUE=DATE-TIME:20231103T100000
DTEND;TZID=Europe/Rome;VALUE=DATE-TIME:20231201T100000
DTSTAMP;VALUE=DATE-TIME:20260421T045320Z
UID:ee63d4f4a84c4bbca96dae4d436758e3@dicam.unibo.it
CREATED;VALUE=DATE-TIME:20231031T131105Z
DESCRIPTION:DIN-ECO realizza un ciclo di seminari per aspiranti imprendito
 ri\, dedicato a studenti\, personale accademico e personale non accademico
 .
LAST-MODIFIED;VALUE=DATE-TIME:20250624T065956Z
URL:https://dicam.unibo.it/it/eventi/din-eco-annuncia-un-ciclo-completo-di
 -seminari-per-aspiranti-imprenditori
END:VEVENT
BEGIN:VTIMEZONE
TZID:Europe/Rome
X-LIC-LOCATION:Europe/Rome
BEGIN:STANDARD
DTSTART;VALUE=DATE-TIME:20231029T020000
TZNAME:CET
TZOFFSETFROM:+0200
TZOFFSETTO:+0100
END:STANDARD
END:VTIMEZONE
END:VCALENDAR
