BEGIN:VCALENDAR
VERSION:2.0
PRODID:-//Plone.org//NONSGML plone.app.event//EN
X-WR-TIMEZONE:Europe/Rome
BEGIN:VEVENT
SUMMARY:Discovery of the North Face Corridor in the Great Pyramid of Giza 
 using Non-destructive Techniques
DTSTART;TZID=Europe/Rome;VALUE=DATE-TIME:20230511T110000
DTEND;TZID=Europe/Rome;VALUE=DATE-TIME:20230511T130000
DTSTAMP;VALUE=DATE-TIME:20260421T061235Z
UID:eef376a977894d31946c8ccb52b866da@dicam.unibo.it
CREATED;VALUE=DATE-TIME:20230503T075658Z
DESCRIPTION:Prof. Mohamed Elkarmoty – University of Cairo Egypt – Scan
 Pyramids Project
LAST-MODIFIED;VALUE=DATE-TIME:20230503T140045Z
URL:https://dicam.unibo.it/it/eventi/discovery-of-the-north-face-corridor-
 in-the-great-pyramid-of-giza-using-non-destructive-techniques
END:VEVENT
BEGIN:VTIMEZONE
TZID:Europe/Rome
X-LIC-LOCATION:Europe/Rome
BEGIN:DAYLIGHT
DTSTART;VALUE=DATE-TIME:20230326T030000
TZNAME:CEST
TZOFFSETFROM:+0100
TZOFFSETTO:+0200
END:DAYLIGHT
END:VTIMEZONE
END:VCALENDAR
