BEGIN:VCALENDAR
VERSION:2.0
PRODID:-//Plone.org//NONSGML plone.app.event//EN
X-WR-TIMEZONE:Europe/Rome
BEGIN:VEVENT
SUMMARY:Dottorato di Ricerca: percorsi\, strumenti e opportunità
DTSTART;TZID=Europe/Rome;VALUE=DATE-TIME:20250226T103000
DTEND;TZID=Europe/Rome;VALUE=DATE-TIME:20250226T113000
DTSTAMP;VALUE=DATE-TIME:20260421T042930Z
UID:0832aec5dc1444c9a708e1e6cd183e70@dicam.unibo.it
CREATED;VALUE=DATE-TIME:20250205T085718Z
DESCRIPTION:Le opportunità e le caratteristiche del percorso di dottorato
  presentate dal Delegato di Ateneo per il Dottorato di Ricerca prof. Marco
  Carricato.
LAST-MODIFIED;VALUE=DATE-TIME:20250205T085742Z
URL:https://dicam.unibo.it/it/eventi/dottorato-di-ricerca-percorsi-strumen
 ti-e-opportunita
END:VEVENT
BEGIN:VTIMEZONE
TZID:Europe/Rome
X-LIC-LOCATION:Europe/Rome
BEGIN:STANDARD
DTSTART;VALUE=DATE-TIME:20241027T020000
TZNAME:CET
TZOFFSETFROM:+0200
TZOFFSETTO:+0100
END:STANDARD
END:VTIMEZONE
END:VCALENDAR
