BEGIN:VCALENDAR
VERSION:2.0
PRODID:-//Plone.org//NONSGML plone.app.event//EN
X-WR-TIMEZONE:Europe/Rome
BEGIN:VEVENT
SUMMARY:Dr. Dumont: "Laboratory for road Operations\, Perception\, Simulat
 ors and Simulations"
DTSTART;VALUE=DATE:20180228
DTEND;VALUE=DATE:20180301
DTSTAMP;VALUE=DATE-TIME:20260425T044313Z
UID:53c4f2b6b86d468a80624ba88a06dd1e@dicam.unibo.it
CREATED;VALUE=DATE-TIME:20180208T071615Z
DESCRIPTION:DICAM DISTINGUISHED LECTURES 2018
LAST-MODIFIED;VALUE=DATE-TIME:20180208T072223Z
URL:https://dicam.unibo.it/it/eventi/dr.-dumont-laboratory-for-road-operat
 ions-perception-simulators-and-simulations
END:VEVENT
END:VCALENDAR
