BEGIN:VCALENDAR
VERSION:2.0
PRODID:-//Plone.org//NONSGML plone.app.event//EN
X-WR-TIMEZONE:Europe/Rome
BEGIN:VEVENT
SUMMARY:EFCE Spotlight Talks 2021
DTSTART;VALUE=DATE:20210517
DTEND;VALUE=DATE:20210522
DTSTAMP;VALUE=DATE-TIME:20260424T205203Z
UID:a8e943634e1c4efcbf864a2ea3a4d669@dicam.unibo.it
CREATED;VALUE=DATE-TIME:20210423T073200Z
DESCRIPTION:5 Webinar: talks by seven of EFCE Working Parties
LAST-MODIFIED;VALUE=DATE-TIME:20210423T075105Z
URL:https://dicam.unibo.it/it/eventi/efce-spotlight-talks-2021
END:VEVENT
END:VCALENDAR
