BEGIN:VCALENDAR
VERSION:2.0
PRODID:-//Plone.org//NONSGML plone.app.event//EN
X-WR-TIMEZONE:Europe/Rome
BEGIN:VEVENT
SUMMARY:Effects influencing the behaviour of reinforcement anchorage zone 
 (rail seat section) of prestressed concrete sleepers
DTSTART;TZID=Europe/Rome;VALUE=DATE-TIME:20230125T110000
DTEND;TZID=Europe/Rome;VALUE=DATE-TIME:20230125T120000
DTSTAMP;VALUE=DATE-TIME:20260421T061320Z
UID:2d3aef1f77f94b63ad1ceb0cade2770f@dicam.unibo.it
CREATED;VALUE=DATE-TIME:20230123T115034Z
DESCRIPTION:Aidas Jokūbaitis\, Associate Professor in the Department of R
 einforced Concrete Structures and Geotechnics\, Faculty of Civil Engineeri
 ng\, Vilnius Gediminas Technical University
LAST-MODIFIED;VALUE=DATE-TIME:20230124T090327Z
URL:https://dicam.unibo.it/it/eventi/effects-influencing-the-behaviour-of-
 reinforcement-anchorage-zone-rail-seat-section-of-prestressed-concrete-sle
 epers-3
END:VEVENT
BEGIN:VTIMEZONE
TZID:Europe/Rome
X-LIC-LOCATION:Europe/Rome
BEGIN:STANDARD
DTSTART;VALUE=DATE-TIME:20221030T020000
TZNAME:CET
TZOFFSETFROM:+0200
TZOFFSETTO:+0100
END:STANDARD
END:VTIMEZONE
END:VCALENDAR
