BEGIN:VCALENDAR
VERSION:2.0
PRODID:-//Plone.org//NONSGML plone.app.event//EN
X-WR-TIMEZONE:Europe/Rome
BEGIN:VEVENT
SUMMARY:Engineering Geology Day @ DICAM 
DTSTART;TZID=Europe/Rome;VALUE=DATE-TIME:20150626T093000
DTEND;TZID=Europe/Rome;VALUE=DATE-TIME:20150626T130000
DTSTAMP;VALUE=DATE-TIME:20260421T075818Z
UID:e62a09dd950f49ee973ade004a0f2d61@dicam.unibo.it
CREATED;VALUE=DATE-TIME:20150617T054726Z
LAST-MODIFIED;VALUE=DATE-TIME:20150617T054812Z
URL:https://dicam.unibo.it/it/eventi/engineering-geology-day-dicam
END:VEVENT
BEGIN:VTIMEZONE
TZID:Europe/Rome
X-LIC-LOCATION:Europe/Rome
BEGIN:DAYLIGHT
DTSTART;VALUE=DATE-TIME:20150329T030000
TZNAME:CEST
TZOFFSETFROM:+0100
TZOFFSETTO:+0200
END:DAYLIGHT
END:VTIMEZONE
END:VCALENDAR
