BEGIN:VCALENDAR
VERSION:2.0
PRODID:-//Plone.org//NONSGML plone.app.event//EN
X-WR-TIMEZONE:Europe/Rome
BEGIN:VEVENT
SUMMARY:Engineering innovative industry solutions\, Australian perspective
 s with global applications
DTSTART;TZID=Europe/Rome;VALUE=DATE-TIME:20241108T100000
DTEND;TZID=Europe/Rome;VALUE=DATE-TIME:20241108T113000
DTSTAMP;VALUE=DATE-TIME:20260420T230732Z
UID:aaa339985c6d45e3a2a17947837653e3@dicam.unibo.it
CREATED;VALUE=DATE-TIME:20241025T110333Z
DESCRIPTION:Andrew Guzzomi\, Monte Masarei\, Wesley Moss\nCentre for Engin
 eering Innovation: Agriculture & Ecological Restoration\,\nSchool of Engin
 eering\, The University of Western Australia (UWA)
LAST-MODIFIED;VALUE=DATE-TIME:20241028T075748Z
URL:https://dicam.unibo.it/it/eventi/engineering-innovative-industry-solut
 ions-australian-perspectives-with-global-applications
END:VEVENT
BEGIN:VTIMEZONE
TZID:Europe/Rome
X-LIC-LOCATION:Europe/Rome
BEGIN:STANDARD
DTSTART;VALUE=DATE-TIME:20241027T020000
TZNAME:CET
TZOFFSETFROM:+0200
TZOFFSETTO:+0100
END:STANDARD
END:VTIMEZONE
END:VCALENDAR
