BEGIN:VCALENDAR
VERSION:2.0
PRODID:-//Plone.org//NONSGML plone.app.event//EN
X-WR-TIMEZONE:Europe/Rome
BEGIN:VEVENT
SUMMARY:EXPERT WORKSHOP - La security di installazioni industriali: possib
 ili sinergie tra accademia\, pubblico e privato
DTSTART;TZID=Europe/Rome;VALUE=DATE-TIME:20160428T090000
DTEND;TZID=Europe/Rome;VALUE=DATE-TIME:20160428T133000
DTSTAMP;VALUE=DATE-TIME:20260421T100151Z
UID:ab0b71346db94f859edf82fb84a80f36@dicam.unibo.it
CREATED;VALUE=DATE-TIME:20160311T123251Z
LAST-MODIFIED;VALUE=DATE-TIME:20160404T110210Z
URL:https://dicam.unibo.it/it/eventi/expert-workshop-la-security-di-instal
 lazioni-industriali-possibili-sinergie-tra-accademia-pubblico-e-privato
END:VEVENT
BEGIN:VTIMEZONE
TZID:Europe/Rome
X-LIC-LOCATION:Europe/Rome
BEGIN:DAYLIGHT
DTSTART;VALUE=DATE-TIME:20160327T030000
TZNAME:CEST
TZOFFSETFROM:+0100
TZOFFSETTO:+0200
END:DAYLIGHT
END:VTIMEZONE
END:VCALENDAR
